{"text_format":"3","workbook":"xlsx","n_sheets":21,"sheets":["发展目标","主要经济指标","GDP","农业","规模工业生产主要分类","主要产业","分县市区园区工业","规模以上工业经济效益","用电量","固定资产投资","固定资产投资2","商品房建设与销售","国内贸易、旅游","热点商品","规上服务业营业收入","交通运输邮电","财政金融","人民生活和物价1","调查单位","县市1","县市2"],"not_rendered":{"external_links":14,"defined_names":13},"read":"whole","date_system":"1900"}

{"sheet":"发展目标","index":0,"n_rows":13,"n_cols":5,"rows_kept":13,"merged":[[0,0,0,4]]}
["国家、湖南省、岳阳市2022年度经济社会发展预期目标"]
[]
["指标名称","单位","国家","湖南省","岳阳市"]
["GDP","%","5.5%左右","6.5%以上","7.5%以上 "]
["规模工业增加值","%",null,{"v":0.072,"d":"7.2%"},"7.5%以上 "]
["固定资产投资","%",null,{"v":0.075,"d":"7.5%"},"9%以上"]
["社会消费品零售总额","%",null,{"v":0.075,"d":"7.5%"},{"v":0.085,"d":"8.5%"}]
["进出口总额","%","保稳提质",{"v":0.12,"d":"12%"},"30%以上"]
["居民消费价格指数","%","3%左右","3%左右","3%以内"]
["一般公共预算地方收入","%",null,{"v":0.06,"d":"6%"},"8.0%左右"]
["居民收入","%","与经济增长基本同步","与经济增长基本同步","稳步增长"]
["城镇新增就业","万人",null,"70万人"]
["城镇调查失业率","%","5.5%以内","5.5%以内","5.5%以内"]

{"sheet":"主要经济指标","index":1,"n_rows":34,"n_cols":4,"rows_kept":34,"merged":[[0,0,0,3]]}
["1-9月岳阳市主要经济指标完成情况表"]
[]
["主要指标","单 位","总量","增幅（%）"]
["地区生产总值","亿元",{"$f":"GDP!B4","v":{"v":3297.5941,"d":"3297.59"}},{"$f":"GDP!C4","v":{"v":5.36,"d":"5.4"}}]
["  第一产业","亿元",{"$f":"GDP!B19","v":{"v":287.71585313436,"d":"287.72"}},{"$f":"GDP!C19","v":4.6}]
["  第二产业","亿元",{"$f":"GDP!B20","v":{"v":1376.06056442015,"d":"1376.06"}},{"$f":"GDP!C20","v":6.6}]
["  第三产业","亿元",{"$f":"GDP!B21","v":{"v":1633.81768244549,"d":"1633.82"}},{"$f":"GDP!C21","v":4.5}]
["规模以上工业增加值","亿元","—",{"$f":"规模工业生产主要分类!B4","v":8.2}]
["规模以上服务业主营业务收入（1-8月）","亿元",{"$f":"县市2!F6","v":268.56},{"$f":"县市2!H6","v":32.4}]
["固定资产投资","亿元","—",{"$f":"固定资产投资!B5","v":{"v":11,"d":"11.0"}}]
["  产业投资","亿元","—",{"$f":"县市2!N6","v":17.6}]
["   工业投资","亿元","—",{"$f":"固定资产投资!B19","v":24.6}]
["  房地产投资","亿元",{"$f":"商品房建设与销售!C4","v":{"v":142.7072,"d":"142.71"}},{"$f":"商品房建设与销售!D4","v":{"v":-15.35,"d":"-15.4"}}]
["商品房销售面积","万平方米",{"$f":"商品房建设与销售!C7","v":{"v":256.1449,"d":"256.14"}},{"$f":"商品房建设与销售!D7","v":{"v":-37.71,"d":"-37.7"}}]
["商品房销售额","亿元",{"$f":"商品房建设与销售!C9","v":{"v":132.9536,"d":"132.95"}},{"$f":"商品房建设与销售!D9","v":-45.4}]
["社会消费品零售总额","亿元",{"$f":"国内贸易、旅游!C5","v":{"v":1341.80333234681,"d":"1341.80"}},{"$f":"国内贸易、旅游!D5","v":3.3}]
["  限上企业（单位）消费品零售额","亿元",{"$f":"[4]Sheet1!$B$59","v":{"v":422.91426,"d":"422.91"}},{"$f":"[4]Sheet1!$C$59","v":11.1}]
["进出口总额","亿元",{"$f":"#REF!","v":{"$error":"#REF!"}},{"$f":"#REF!","v":{"$error":"#REF!"}}]
["  出口总额","亿元",{"$f":"#REF!","v":{"$error":"#REF!"}},{"$f":"#REF!","v":{"$error":"#REF!"}}]
["  进口总额","亿元",{"$f":"#REF!","v":{"$error":"#REF!"}},{"$f":"#REF!","v":{"$error":"#REF!"}}]
["实际到位内资","亿元",{"$f":"#REF!","v":{"$error":"#REF!"}},"—"]
["实际使用外商直接投资（1-8月）","万美元",4875,68.4]
["一般公共预算收入","亿元",{"$f":"财政金融!C5","v":{"v":245.5226,"d":"245.52"}},{"$f":"财政金融!D5","v":-8.6}]
["  一般公共预算地方收入","亿元",{"$f":"财政金融!C8","v":{"v":139.982,"d":"139.98"}},{"$f":"财政金融!D8","v":12.3}]
["一般公共预算支出","亿元",{"$f":"财政金融!C14","v":{"v":401.9874,"d":"401.99"}},{"$f":"财政金融!D14","v":{"v":2.78849377151243,"d":"2.8"}}]
["金融机构存款余额","亿元",{"$f":"财政金融!B16","v":{"v":3722.839472652,"d":"3722.84"}},{"$f":"财政金融!D16","v":{"v":14.647559865152,"d":"14.6"}}]
["  住户存款余额","亿元",{"$f":"财政金融!B17","v":{"v":2501.7822582798,"d":"2501.78"}},{"$f":"财政金融!D17","v":16.3}]
["金融机构贷款余额","亿元",{"$f":"财政金融!B22","v":{"v":3223.6014255829,"d":"3223.60"}},{"$f":"财政金融!D22","v":15.5}]
["居民消费价格总指数","%","—",{"$f":"人民生活和物价1!D5","v":{"v":101.38484509,"d":"101.4"}}]
["全体居民人均可支配收入","元",{"$f":"#REF!","v":{"$error":"#REF!"}},{"$f":"#REF!","v":{"$error":"#REF!"}}]
["城镇居民人均可支配收入","元",{"$f":"#REF!","v":{"$error":"#REF!"}},{"$f":"#REF!","v":{"$error":"#REF!"}}]
["农村居民人均可支配收入","元",{"$f":"#REF!","v":{"$error":"#REF!"}},{"$f":"#REF!","v":{"$error":"#REF!"}}]
["全社会用电量","亿千瓦时",{"$f":"#REF!","v":{"$error":"#REF!"}},{"$f":"#REF!","v":{"$error":"#REF!"}}]
["  工业用电量","亿千瓦时",{"$f":"#REF!","v":{"$error":"#REF!"}},{"$f":"#REF!","v":{"$error":"#REF!"}}]

{"sheet":"GDP","index":2,"n_rows":22,"n_cols":4,"rows_kept":22,"merged":[[0,0,0,3],[4,0,4,2],[17,0,17,2]]}
["地区生产总值"]
[]
["指标","总量（亿元）","增幅(%)","占GDP比重（%）"]
["地区生产总值 ",{"$f":"'[8]4306'!$D$10/10000","v":{"v":3297.5941,"d":"3297.59"}},{"$f":"'[8]4306'!$L10","v":{"v":5.36,"d":"5.4"}},"—"]
["按行业分"]
["     农林牧渔业",{"$f":"'[8]4306'!$D11/10000","v":{"v":300.51236009953,"d":"300.51"}},{"$f":"'[8]4306'!$L11","v":4.6},{"$f":"B6/$B$4*100","v":{"v":9.11307914153322,"d":"9.1"}}]
["     工业",{"$f":"'[8]4306'!$D12/10000","v":{"v":1157.32389751255,"d":"1157.32"}},{"$f":"'[8]4306'!$L12","v":6.4},{"$f":"B7/$B$4*100","v":{"v":35.0960082537918,"d":"35.1"}}]
["       #制造业",{"$f":"'[8]4306'!$D13/10000","v":{"v":1072.22428144827,"d":"1072.22"}},{"$f":"'[8]4306'!$L13","v":7.1},{"$f":"B8/$B$4*100","v":{"v":32.5153505535527,"d":"32.5"}}]
["     建筑业",{"$f":"'[8]4306'!$D14/10000","v":{"v":220.63805062987,"d":"220.64"}},{"$f":"'[8]4306'!$L14","v":{"v":8,"d":"8.0"}},{"v":6.69087959096815,"d":"6.7"}]
["     批发和零售业",{"$f":"'[8]4306'!$D15/10000","v":{"v":289.40410445666,"d":"289.40"}},{"$f":"'[8]4306'!$L15","v":6.1},{"v":8.77621974325646,"d":"8.8"}]
["     交通运输、仓储和邮政业",{"$f":"'[8]4306'!$D16/10000","v":{"v":131.342842148306,"d":"131.34"}},{"$f":"'[8]4306'!$L16","v":4.2},{"v":3.98298996678536,"d":"4.0"}]
["     住宿和餐饮业",{"$f":"'[8]4306'!$D17/10000","v":{"v":49.7344385606688,"d":"49.73"}},{"$f":"'[8]4306'!$L17","v":3.8},{"v":1.50820377076332,"d":"1.5"}]
["     金融业",{"$f":"'[8]4306'!$D18/10000","v":{"v":104.164365420471,"d":"104.16"}},{"$f":"'[8]4306'!$L18","v":8.8},{"v":3.15879887765662,"d":"3.2"}]
["     房地产业",{"$f":"'[8]4306'!$D19/10000","v":{"v":204.782202125356,"d":"204.78"}},{"$f":"'[8]4306'!$L19","v":-4.1},{"v":6.21004877845202,"d":"6.2"}]
["     其他服务业",{"$f":"'[8]4306'!$D20/10000","v":{"v":839.691886364215,"d":"839.69"}},{"$f":"'[8]4306'!$L20","v":5.7},{"v":25.4637733117067,"d":"25.5"}]
["      #营利性服务业",{"$f":"'[8]4306'!$D21/10000","v":{"v":526.142824621246,"d":"526.14"}},{"$f":"'[8]4306'!$L21","v":6.3},{"v":15.9553543785527,"d":"16.0"}]
["       非营利性服务业",{"$f":"'[8]4306'!$D22/10000","v":{"v":313.549061742969,"d":"313.55"}},{"$f":"'[8]4306'!$L22","v":4.8},{"v":9.50841893315399,"d":"9.5"}]
["按产业分"]
["  第一产业",{"$f":"'[8]4306'!$D23/10000","v":{"v":287.71585313436,"d":"287.72"}},{"$f":"'[8]4306'!$L23","v":4.6},{"v":8.72502328695821,"d":"8.7"}]
["  第二产业",{"$f":"'[8]4306'!$D24/10000","v":{"v":1376.06056442015,"d":"1376.06"}},{"$f":"'[8]4306'!$L24","v":6.6},{"v":41.7292281187715,"d":"41.7"}]
["  第三产业",{"$f":"'[8]4306'!$D25/10000","v":{"v":1633.81768244549,"d":"1633.82"}},{"$f":"'[8]4306'!$L25","v":4.5},{"v":49.5457485942703,"d":"49.5"}]
["注：本表为季报。"]

{"sheet":"农业","index":3,"n_rows":18,"n_cols":4,"rows_kept":18,"merged":[[0,0,0,3]]}
["农业经济"]
[]
["指标","单位","总量","增幅(%)"]
["一、农林牧渔业总产值","亿元",{"v":494.4084,"d":"494.41"},4.6]
["农业产值","亿元",{"v":213.9476,"d":"213.95"},4.2]
["林业产值","亿元",{"v":14.3617,"d":"14.36"},8.8]
["牧业产值","亿元",{"v":128.1857,"d":"128.19"},3.1]
["渔业产值","亿元",{"v":108.694,"d":"108.69"},6.8]
["农林牧渔专业及辅助性活动产值","亿元",{"v":29.2194,"d":"29.22"},6.8]
["二、农作物播种面积"]
["  蔬菜及食用菌","万亩",104.16,4.9]
["  油菜籽","万亩",182.06,1.8]
["三、主要农产品产量"]
["  蔬菜及食用菌","万吨",228.91,5.4]
["  油菜籽","万吨",21.19,6.1]
["  茶叶","吨",16315.74,0.2]
["  水果","吨",466988.77,1.5]
["注：本表为季报。"]

{"sheet":"规模工业生产主要分类","index":4,"n_rows":16,"n_cols":2,"rows_kept":16,"merged":[[0,0,0,1]]}
["规模工业生产主要分类"]
[]
["指    标","增幅(%)"]
["全市规模工业增加值",{"$f":"[3]Sheet1!$G$22","v":8.2}]
["其中：国有企业",{"$f":"[3]Sheet1!G23","v":{"v":-0.965067643364892,"d":"-1.0"}}]
["      股份制企业",{"$f":"[3]Sheet1!G24","v":{"v":8.64363508704919,"d":"8.6"}}]
["      外商及港、澳、台商投资企业",{"$f":"[3]Sheet1!G25","v":{"v":10.6039276480709,"d":"10.6"}}]
["      其他经济类型企业",{"$f":"[3]Sheet1!G26","v":{"v":9.62053954781228,"d":"9.6"}}]
["其中：大中型工业",{"$f":"[3]Sheet1!G27","v":{"v":8.24987230772591,"d":"8.2"}}]
["      中小微型工业",{"$f":"[3]Sheet1!G28","v":{"v":4.95304261215317,"d":"5.0"}}]
["其中：公有制工业",{"$f":"[3]Sheet1!G29","v":{"v":15.4937353273658,"d":"15.5"}}]
["      非公有制工业",{"$f":"[3]Sheet1!G30","v":{"v":6.22604133478923,"d":"6.2"}}]
["其中：中省工业",{"$f":"[3]Sheet1!G31","v":{"v":17.3837244619838,"d":"17.4"}}]
["      地方工业",{"$f":"[3]Sheet1!G32","v":{"v":6.36973213657728,"d":"6.4"}}]
["其中：高加工度工业",{"$f":"[3]Sheet1!G33","v":{"v":12.073828253344,"d":"12.1"}}]
["其中：高技术产业",{"$f":"[3]Sheet1!G34","v":{"v":30.7432296317102,"d":"30.7"}}]

{"sheet":"主要产业","index":5,"n_rows":14,"n_cols":2,"rows_kept":14,"merged":[[0,0,0,1]]}
["规模工业主要行业"]
[]
["指    标","增幅(%)"]
["主要行业增加值",{"$f":"[3]Sheet1!G38","v":{"v":7.1165952622694,"d":"7.1"}}]
["石化行业",{"$f":"[3]Sheet1!G39","v":{"v":9.11216750983013,"d":"9.1"}}]
["造纸行业",{"$f":"[3]Sheet1!G40","v":{"v":11.2230544483259,"d":"11.2"}}]
["电力行业",{"$f":"[3]Sheet1!G41","v":{"v":-6.32995844896657,"d":"-6.3"}}]
["食品行业",{"$f":"[3]Sheet1!G42","v":{"v":3.85790789263145,"d":"3.9"}}]
["机械行业",{"$f":"[3]Sheet1!G43","v":{"v":13.0156415242225,"d":"13.0"}}]
["纺织行业",{"$f":"[3]Sheet1!G44","v":{"v":-15.3448440795266,"d":"-15.3"}}]
["建材行业",{"$f":"[3]Sheet1!G45","v":{"v":-6.24887036305904,"d":"-6.2"}}]
["有色及循环行业",{"$f":"[3]Sheet1!G46","v":{"v":17.5224390014858,"d":"17.5"}}]
["医药行业",{"$f":"[3]Sheet1!G47","v":{"v":21.8646221414194,"d":"21.9"}}]
["电子信息制造业",{"$f":"[3]Sheet1!G48","v":{"v":28.1900580795633,"d":"28.2"}}]

{"sheet":"分县市区园区工业","index":6,"n_rows":14,"n_cols":2,"rows_kept":14,"merged":[[0,0,0,1],[14,0,14,1]]}
["省级以上园区规模工业"]
[]
["指    标","增幅(%)"]
["省级及以上园区规模工业增加值",{"$f":"[3]Sheet1!G52","v":8.7}]
["岳阳经济技术开发区",{"$f":"[3]Sheet1!G53","v":14.4}]
["湖南岳阳绿色化工产业园",{"$f":"[3]Sheet1!G54","v":6.5}]
["君山区工业集中区",{"$f":"[3]Sheet1!G55","v":5.8}]
["岳阳高新技术产业园区",{"$f":"[3]Sheet1!G56","v":6.7}]
["华容高新技术产业开发区",{"$f":"[3]Sheet1!G57","v":5.5}]
["湘阴县工业园",{"$f":"[3]Sheet1!G58","v":8.8}]
["平江高新技术产业园区",{"$f":"[3]Sheet1!G59","v":6.9}]
["汨罗循环经济产业园",{"$f":"[3]Sheet1!G60","v":7.1}]
["临湘市工业园",{"$f":"[3]Sheet1!G61","v":{"v":7,"d":"7.0"}}]
["岳阳临港高新技术产业开发区",{"$f":"[3]Sheet1!G62","v":22.2}]

{"sheet":"规模以上工业经济效益","index":7,"n_rows":18,"n_cols":4,"rows_kept":18,"hidden":true,"merged":[[0,0,0,3]]}
["规模以上工业经济效益（1-2月）"]
[]
["指    标","单位"," 绝对额  ","增幅(%)"]
["企业单位数","个",{"$f":"'[5]1、B47001_2022年2月'!$D$12","v":1850}]
[" #亏损企业个数","个",{"$f":"'[5]1、B47001_2022年2月'!$E$12","v":130},{"$f":"'[5]1、B47001_2022年2月'!$G$12","v":16.1}]
["资产总计","亿元",{"$f":"'[5]1、B47001_2022年2月'!$W$12","v":2161.96},{"$f":"'[5]1、B47001_2022年2月'!$Y$12","v":{"v":11.39,"d":"11.4"}}]
["负债合计","亿元",{"$f":"'[5]1、B47001_2022年2月'!$Z$12","v":{"v":999.3,"d":"999.30"}},{"$f":"'[5]1、B47001_2022年2月'!$AB$12","v":{"v":15.89,"d":"15.9"}}]
["主营营业收入","亿元",{"$f":"'[5]1、B47001_2022年2月'!$AF$12","v":862.63},{"$f":"'[5]1、B47001_2022年2月'!$AH$12","v":{"v":24.77,"d":"24.8"}}]
["主营营业成本","亿元",{"$f":"'[5]1、B47001_2022年2月'!$AI$12","v":707.83},{"$f":"'[5]1、B47001_2022年2月'!$AK$12","v":{"v":25.82,"d":"25.8"}}]
["主营税金及附加","亿元",{"$f":"'[5]1、B47001_2022年2月'!$AL$12","v":30.44},{"$f":"'[5]1、B47001_2022年2月'!$AN$12","v":{"v":20.75,"d":"20.8"}}]
["销售费用","亿元",{"$f":"'[5]1、B47001_2022年2月'!$AO$12","v":22.38},{"$f":"'[5]1、B47001_2022年2月'!$AQ$12","v":13.6}]
["管理费用","亿元",{"$f":"'[5]1、B47001_2022年2月'!$AR$12","v":33.73},{"$f":"'[5]1、B47001_2022年2月'!$AT$12","v":{"v":10.05,"d":"10.1"}}]
["财务费用","亿元",{"$f":"'[5]1、B47001_2022年2月'!$AX$12","v":{"v":10.6,"d":"10.60"}},{"$f":"'[5]1、B47001_2022年2月'!$AZ$12","v":{"v":28.02,"d":"28.0"}}]
["利润总额","亿元",{"$f":"'[5]1、B47001_2022年2月'!$CE$12","v":43.37},{"$f":"'[5]1、B47001_2022年2月'!$CG$12","v":{"v":35.87,"d":"35.9"}}]
["应交增值税","亿元",{"$f":"'[5]1、B47001_2022年2月'!$CK$12","v":17.59},{"$f":"'[5]1、B47001_2022年2月'!$CM$12","v":{"v":102.88,"d":"102.9"}}]
["亏损企业亏损总额","亿元",{"$f":"'[5]1、B47001_2022年2月'!$CH$12","v":4.03},{"$f":"'[5]1、B47001_2022年2月'!$CJ$12","v":{"v":175.33,"d":"175.3"}}]
["平均用工人数","万人",{"$f":"'[5]1、B47001_2022年2月'!$CQ$12","v":24.63},{"$f":"'[5]1、B47001_2022年2月'!$CS$12","v":{"v":-0.32,"d":"-0.3"}}]
["注：规模以上工业经济效益为错月数据。"]

{"sheet":"用电量","index":8,"n_rows":18,"n_cols":3,"rows_kept":18,"hidden":true,"merged":[[0,0,0,3]]}
["用电量"]
[]
["指标","1-本月        （万千瓦时）","增幅(%)"]
["全社会用电量总计"]
[" 全行业用电合计"]
["  第一产业"]
["  第二产业"]
["   #工业"]
["    建筑业"]
["  第三产业"]
["   #交通运输、仓储和邮政业"]
["    批发和零售业"]
["    住宿和餐饮业"]
["    金融业"]
["    房地产业"]
[" 城乡居民生活用电合计"]
["  城镇居民"]
["  乡村居民"]

{"sheet":"固定资产投资","index":9,"n_rows":38,"n_cols":2,"rows_kept":38,"merged":[[0,0,0,1]]}
["固定资产投资"]
[]
[]
["指    标","增幅（%）"]
[" 全部固定资产投资 ",{"$f":"[6]T052922_1!$E6","v":{"v":11,"d":"11.0"}}]
[" 一、按经济类型分 ",{"$f":"[6]T052922_1!$E7","v":"  "}]
["    国有投资 ",{"$f":"[6]T052922_1!$E8","v":-15.6}]
["    非国有投资 ",{"$f":"[6]T052922_1!$E9","v":19.5}]
["      民间投资 ",{"$f":"[6]T052922_1!$E10","v":16.1}]
[" 二、按隶属关系分 ",{"$f":"[6]T052922_1!$E11","v":"  "}]
["    中央项目 ",{"$f":"[6]T052922_1!$E12","v":109.9}]
["    地方项目 ",{"$f":"[6]T052922_1!$E13","v":8.2}]
[" 三、按产业分 ",{"$f":"[6]T052922_1!$E14","v":"  "}]
["    第一产业 ",{"$f":"[6]T052922_1!$E15","v":{"v":-32,"d":"-32.0"}}]
["    第二产业 ",{"$f":"[6]T052922_1!$E16","v":24.3}]
["    第三产业 ",{"$f":"[6]T052922_1!$E17","v":1.6}]
[" 四、按投资方向分 ",{"$f":"[6]T052922_1!$E18","v":"  "}]
[" 涉农项目投资 ",{"$f":"[6]T052922_1!$E19","v":-11.5}]
[" 工业投资 ",{"$f":"[6]T052922_1!$E20","v":24.6}]
["       其中：本年新开工工业投资 ",{"$f":"[6]T052922_2!$E6","v":-35.9}]
["       工业技改投资 ",{"$f":"[6]T052922_2!$E7","v":{"v":19,"d":"19.0"}}]
[" 高新技术产业",{"$f":"[6]T052922_2!$E8","v":54.8}]
[" 民生工程 ",{"$f":"[6]T052922_2!$E11","v":-4.4}]
[" 生态环境",{"$f":"[6]T052922_2!$E12","v":{"v":5,"d":"5.0"}}]
[" 基础设施",{"$f":"[6]T052922_2!$E13","v":24.6}]
[" 房地产开发",{"$f":"[6]T052922_2!$E14","v":-15.3}]
[" 五、按结构分 ",{"$f":"[6]T052922_2!$E15","v":"  "}]
["    建筑工程 ",{"$f":"[6]T052922_2!$E16","v":3.5}]
["    安装工程 ",{"$f":"[6]T052922_2!$E17","v":79.1}]
["    设备工器具购置 ",{"$f":"[6]T052922_2!$E18","v":-21.9}]
["    其他费用 ",{"$f":"[6]T052922_2!$E19","v":34.5}]
["六、按投资规模分"]
["  #5000万以下项目个数   ",{"v":-50.0680272108844,"d":"-50.1"}]
["   5000万以下项目投资额",{"v":-35.1756841140988,"d":"-35.2"}]
["  #5000万以上项目个数   ",{"v":-3.79867046533712,"d":"-3.8"}]
["   5000万以上项目投资额",{"v":18.9368297419648,"d":"18.9"}]
["   亿元以上项目个数",{"v":-9.4054054054054,"d":"-9.4"}]
["   亿元以上项目投资额",{"v":17.2632140585285,"d":"17.3"}]

{"sheet":"固定资产投资2","index":10,"n_rows":23,"n_cols":2,"rows_kept":23,"hidden":true,"merged":[[0,0,0,1]]}
["各行业固定资产投资"]
[]
[]
["指    标","增幅（%）"]
[" 农、林、牧、渔业 "]
[" 采矿业 "]
[" 制造业 "]
[" 电力、热力、燃气及水的生产和供应业 "]
[" 建筑业 "]
[" 交通运输、仓储和邮政业 "]
[" 信息传输、软件和信息技术服务业 "]
[" 批发和零售业 "]
[" 住宿和餐饮业 "]
[" 金融业"]
[" 房地产业 "]
[" 租赁和商务服务业 "]
[" 科学研究和技术服务业 "]
[" 水利、环境和公共设施管理业 "]
[" 居民服务、修理和其他服务业 "]
[" 教育 "]
[" 卫生和社会工作 "]
[" 文化、体育和娱乐业 "]
[" 公共管理和社会组织 "]

{"sheet":"商品房建设与销售","index":11,"n_rows":18,"n_cols":4,"rows_kept":18,"merged":[[0,0,0,3]]}
["商品房建设与销售"]
[]
[" 指    标","单位","绝对量","增幅（%）"]
["本年完成投资","亿元",{"$f":"'[7]1、X40039_2022年9月'!$C5/10000","v":{"v":142.7072,"d":"142.71"}},{"$f":"'[7]1、X40039_2022年9月'!$F5","v":{"v":-15.35,"d":"-15.4"}}]
["  其中：住宅","亿元",{"$f":"'[7]1、X40039_2022年9月'!$C6/10000","v":{"v":112.9167,"d":"112.92"}},{"$f":"'[7]1、X40039_2022年9月'!$F6","v":{"v":-17.45,"d":"-17.5"}}]
["        土地购置费","亿元",{"$f":"'[7]1、X40039_2022年9月'!$C7/10000","v":{"v":16.555,"d":"16.56"}},{"$f":"'[7]1、X40039_2022年9月'!$F7","v":{"v":-17.72,"d":"-17.7"}}]
["商品房销售面积","万平方米",{"$f":"'[7]1、X40039_2022年9月'!$C8/10000","v":{"v":256.1449,"d":"256.14"}},{"$f":"'[7]1、X40039_2022年9月'!$F8","v":{"v":-37.71,"d":"-37.7"}}]
["  其中：住宅","万平方米",{"$f":"'[7]1、X40039_2022年9月'!$C9/10000","v":{"v":230.0258,"d":"230.03"}},{"$f":"'[7]1、X40039_2022年9月'!$F9","v":{"v":-36.98,"d":"-37.0"}}]
["商品房销售额","亿元",{"$f":"'[7]1、X40039_2022年9月'!$C10/10000","v":{"v":132.9536,"d":"132.95"}},{"$f":"'[7]1、X40039_2022年9月'!$F10","v":-45.4}]
["  其中：住宅","亿元",{"$f":"'[7]1、X40039_2022年9月'!$C11/10000","v":{"v":118.4228,"d":"118.42"}},{"$f":"'[7]1、X40039_2022年9月'!$F11","v":{"v":-43.35,"d":"-43.4"}}]
["房屋施工面积","万平方米",{"$f":"'[7]1、X40039_2022年9月'!$C12/10000","v":{"v":2631.454,"d":"2631.45"}},{"$f":"'[7]1、X40039_2022年9月'!$F12","v":{"v":-2.15,"d":"-2.2"}}]
["  其中：住宅","万平方米",{"$f":"'[7]1、X40039_2022年9月'!$C13/10000","v":{"v":2009.6338,"d":"2009.63"}},{"$f":"'[7]1、X40039_2022年9月'!$F13","v":{"v":-2,"d":"-2.0"}}]
["新开工面积","万平方米",{"$f":"'[7]1、X40039_2022年9月'!$C14/10000","v":{"v":216.6574,"d":"216.66"}},{"$f":"'[7]1、X40039_2022年9月'!$F14","v":{"v":-49.33,"d":"-49.3"}}]
["  其中：住宅","万平方米",{"$f":"'[7]1、X40039_2022年9月'!$C15/10000","v":{"v":177.5593,"d":"177.56"}},{"$f":"'[7]1、X40039_2022年9月'!$F15","v":{"v":-45.61,"d":"-45.6"}}]
["房屋竣工面积","万平方米",{"$f":"'[7]1、X40039_2022年9月'!$C16/10000","v":{"v":173.6813,"d":"173.68"}},{"$f":"'[7]1、X40039_2022年9月'!$F16","v":{"v":26.64,"d":"26.6"}}]
["  其中：住宅","万平方米",{"$f":"'[7]1、X40039_2022年9月'!$C17/10000","v":{"v":135.8447,"d":"135.84"}},{"$f":"'[7]1、X40039_2022年9月'!$F17","v":{"v":23.18,"d":"23.2"}}]
["待售面积","万平方米",{"$f":"'[7]1、X40039_2022年9月'!$C22/10000","v":{"v":90.5149,"d":"90.51"}},{"$f":"'[7]1、X40039_2022年9月'!$F22","v":{"v":9.97,"d":"10.0"}}]
["  其中：住宅","万平方米",{"$f":"'[7]1、X40039_2022年9月'!$C23/10000","v":{"v":50.2364,"d":"50.24"}},{"$f":"'[7]1、X40039_2022年9月'!$F23","v":{"v":30.47,"d":"30.5"}}]

{"sheet":"国内贸易、旅游","index":12,"n_rows":17,"n_cols":4,"rows_kept":17,"merged":[[0,0,0,3],[2,0,2,2]]}
["贸易旅游"]
[]
[]
["指    标","单位","绝对额","增幅"]
["1.社会消费零售总额","亿元",{"$f":"[4]Sheet1!B21/10000","v":{"v":1341.80333234681,"d":"1341.80"}},{"$f":"ROUND([4]Sheet1!D21,1)","v":3.3}]
["（1）按经营地分"]
["城镇","亿元",{"$f":"[4]Sheet1!B23/10000","v":{"v":1153.28451209518,"d":"1153.28"}},{"$f":"ROUND([4]Sheet1!D23,1)","v":3.2}]
["乡村","亿元",{"$f":"[4]Sheet1!B24/10000","v":{"v":188.518820251627,"d":"188.52"}},{"$f":"ROUND([4]Sheet1!D24,1)","v":3.5}]
["（2）按消费形态分"]
["商品零售","亿元",{"$f":"[4]Sheet1!B26/10000","v":{"v":1152.51984299847,"d":"1152.52"}},{"$f":"ROUND([4]Sheet1!D26,1)","v":3.6}]
["餐饮收入","亿元",{"$f":"[4]Sheet1!B27/10000","v":{"v":189.283489348342,"d":"189.28"}},{"$f":"ROUND([4]Sheet1!D27,1)","v":1.4}]
["2.旅游经济"]
[" 旅游总人数","万人次",2859.06,{"v":2.09,"d":"2.1"}]
[" 入境总人数","人次",376,{"v":1466.67,"d":"1466.7"}]
[" 旅游总收入","亿元",{"v":301.3,"d":"301.30"},{"v":-4.23,"d":"-4.2"}]
[" 旅游创汇","万美元",{"v":10.4,"d":"10.40"},{"v":2500,"d":"2500.0"}]
["注：以上部分数据由市文化旅游广电局提供。"]

{"sheet":"热点商品","index":13,"n_rows":28,"n_cols":3,"rows_kept":28,"merged":[[0,0,0,2],[2,1,2,2]]}
["限上商品零售类值"]
[]
[]
["指    标","绝对额（亿元）","增幅（%）"]
["合计",{"$f":"[4]Sheet1!$B31/10000","v":{"v":394.08167,"d":"394.08"}},{"$f":"ROUND([4]Sheet1!$C$31,1)","v":11.1}]
["  1.粮油、食品类",{"$f":"[4]Sheet1!$B33/10000","v":{"v":50.15657,"d":"50.16"}},{"$f":"ROUND([4]Sheet1!$C33,1)","v":26.4}]
["  2.饮料类",{"$f":"[4]Sheet1!$B34/10000","v":{"v":4.62637,"d":"4.63"}},{"$f":"ROUND([4]Sheet1!$C34,1)","v":{"v":16,"d":"16.0"}}]
["  3.烟酒类",{"$f":"[4]Sheet1!$B35/10000","v":{"v":8.61412,"d":"8.61"}},{"$f":"ROUND([4]Sheet1!$C35,1)","v":18.9}]
["  4.服装、鞋帽、针纺织品类",{"$f":"[4]Sheet1!$B36/10000","v":{"v":23.24113,"d":"23.24"}},{"$f":"ROUND([4]Sheet1!$C36,1)","v":7.3}]
["  5.化妆品类",{"$f":"[4]Sheet1!$B37/10000","v":{"v":2.00498,"d":"2.00"}},{"$f":"ROUND([4]Sheet1!$C37,1)","v":7.2}]
["  6.金银珠宝类",{"$f":"[4]Sheet1!$B38/10000","v":{"v":8.04603,"d":"8.05"}},{"$f":"ROUND([4]Sheet1!$C38,1)","v":13.3}]
["  7.日用品类",{"$f":"[4]Sheet1!$B39/10000","v":{"v":16.32188,"d":"16.32"}},{"$f":"ROUND([4]Sheet1!$C39,1)","v":14.5}]
["  8.五金、电料类",{"$f":"[4]Sheet1!$B40/10000","v":{"v":5.83587,"d":"5.84"}},{"$f":"ROUND([4]Sheet1!$C40,1)","v":-10.5}]
["  9.体育、娱乐用品类",{"$f":"[4]Sheet1!$B41/10000","v":{"v":2.85004,"d":"2.85"}},{"$f":"ROUND([4]Sheet1!$C41,1)","v":24.8}]
["  10.书报杂志类",{"$f":"[4]Sheet1!$B42/10000","v":{"v":0.95761,"d":"0.96"}},{"$f":"ROUND([4]Sheet1!$C42,1)","v":24.1}]
["  11.电子出版物及音像制品类",{"$f":"[4]Sheet1!$B43/10000","v":{"v":0.11985,"d":"0.12"}},{"$f":"ROUND([4]Sheet1!$C43,1)","v":31.9}]
["  12.家用电器和音像器材类",{"$f":"[4]Sheet1!$B44/10000","v":{"v":22.19689,"d":"22.20"}},{"$f":"ROUND([4]Sheet1!$C44,1)","v":11.3}]
["  13.中西药品类",{"$f":"[4]Sheet1!$B45/10000","v":{"v":18.52547,"d":"18.53"}},{"$f":"ROUND([4]Sheet1!$C45,1)","v":9.9}]
["  14.文化办公用品类",{"$f":"[4]Sheet1!$B46/10000","v":{"v":7.21851,"d":"7.22"}},{"$f":"ROUND([4]Sheet1!$C46,1)","v":8.5}]
["  15.家具类",{"$f":"[4]Sheet1!$B47/10000","v":{"v":5.35442,"d":"5.35"}},{"$f":"ROUND([4]Sheet1!$C47,1)","v":7.3}]
["  16.通讯器材类",{"$f":"[4]Sheet1!$B48/10000","v":{"v":5.17834,"d":"5.18"}},{"$f":"ROUND([4]Sheet1!$C48,1)","v":12.7}]
["  17.煤炭及制品类",{"$f":"[4]Sheet1!$B49/10000","v":{"v":0.54109,"d":"0.54"}},{"$f":"ROUND([4]Sheet1!$C49,1)","v":-57.7}]
["  19.石油及制品类",{"$f":"[4]Sheet1!$B50/10000","v":{"v":91.09045,"d":"91.09"}},{"$f":"ROUND([4]Sheet1!$C50,1)","v":19.5}]
["  22.建筑及装潢材料类",{"$f":"[4]Sheet1!$B51/10000","v":{"v":12.9415,"d":"12.94"}},{"$f":"ROUND([4]Sheet1!$C51,1)","v":{"v":3,"d":"3.0"}}]
["  23.机电产品及设备类",{"$f":"[4]Sheet1!$B52/10000","v":{"v":5.46461,"d":"5.46"}},{"$f":"ROUND([4]Sheet1!$C52,1)","v":14.2}]
["  24.汽车类",{"$f":"[4]Sheet1!$B53/10000","v":{"v":96.1628,"d":"96.16"}},{"$f":"ROUND([4]Sheet1!$C53,1)","v":3.5}]
["  26.棉麻类",{"$f":"[4]Sheet1!$B54/10000","v":{"v":0.48901,"d":"0.49"}},{"$f":"ROUND([4]Sheet1!$C54,1)","v":-55.6}]
["  27.其他类",{"$f":"[4]Sheet1!$B55/10000","v":{"v":6.14413,"d":"6.14"}},{"$f":"ROUND([4]Sheet1!$C55,1)","v":-16.6}]

{"sheet":"规上服务业营业收入","index":14,"n_rows":16,"n_cols":3,"rows_kept":16,"hidden":true,"merged":[[0,0,0,2]]}
["规模以上服务业企业分行业营业收入（1-2月）"]
[]
[]
["指    标"," 绝对额（亿元） ","增幅（%）"]
["规模以上服务业营业收入"]
[" 交通运输、仓储和邮政业"]
[" 信息传输、软件和信息技术服务业"]
[" 房地产业"]
[" 租赁和商务服务业"]
[" 科学研究和技术服务业"]
[" 水利、环境和公共设施管理业"]
[" 居民服务、修理和其他服务业"]
[" 教育"]
[" 卫生和社会工作"]
[" 文化、体育和娱乐业"]
["注：规模以上服务业营业收入为错月数据。"]

{"sheet":"交通运输邮电","index":15,"n_rows":22,"n_cols":4,"rows_kept":22,"merged":[[0,0,0,3],[21,0,21,3]]}
["交通运输邮政"]
[]
["指    标","单位","总量","增幅（%）"]
["一、交通运输情况"]
["1、客运量总计","万人",{"$f":"'[10]9月'!$E4","v":{"v":1212.1,"d":"1212.10"}},{"$f":"'[10]9月'!$M4","v":{"v":-48.3099031334152,"d":"-48.3"}}]
["  全社会公路客运量","万人",{"$f":"'[10]9月'!$E5","v":{"v":1209,"d":"1209.00"}},{"$f":"'[10]9月'!$M5","v":{"v":-48.4421028696469,"d":"-48.4"}}]
["  全社会水路客运量","万人",{"$f":"'[10]9月'!$E6","v":{"v":3.1,"d":"3.10"}},"——"]
["2、旅客周转量总计","万人公里",{"$f":"'[10]9月'!$E7","v":78019.44},{"$f":"'[10]9月'!$M7","v":{"v":-44.046897218145,"d":"-44.0"}}]
["  全社会公路旅客周转量","万人公里",{"$f":"'[10]9月'!$E8","v":77980.04},{"$f":"'[10]9月'!$M8","v":{"v":-44.0751536661483,"d":"-44.1"}}]
["  全社会水路旅客周转量","万人公里",{"$f":"'[10]9月'!$E9","v":{"v":39.4,"d":"39.40"}},"——"]
["3、货运量总计","万吨",{"$f":"'[10]9月'!$E10","v":{"v":17773.564,"d":"17773.56"}},{"$f":"'[10]9月'!$M10","v":{"v":-2.2596765417629,"d":"-2.3"}}]
["  全社会公路货运量","万吨",{"$f":"'[10]9月'!$E11","v":{"v":10130.0258,"d":"10130.03"}},{"$f":"'[10]9月'!$M11","v":{"v":-5.27612775332166,"d":"-5.3"}}]
["  全社会水路货运量","万吨",{"$f":"'[10]9月'!$E12","v":{"v":7643.5382,"d":"7643.54"}},{"$f":"'[10]9月'!$M12","v":{"v":2.04711347560946,"d":"2.0"}}]
["4、货物周转量总计","万吨公里",{"$f":"'[10]9月'!$E13","v":{"v":1470730.8446,"d":"1470730.84"}},{"$f":"'[10]9月'!$M13","v":{"v":1.77341505977797,"d":"1.8"}}]
["  全社会公路货物周转量","万吨公里",{"$f":"'[10]9月'!$E14","v":{"v":878908.2926,"d":"878908.29"}},{"$f":"'[10]9月'!$M14","v":{"v":6.73644890519272,"d":"6.7"}}]
["  全社会水路货物周转量","万吨公里",{"$f":"'[10]9月'!$E15","v":{"v":591822.552,"d":"591822.55"}},{"$f":"'[10]9月'!$M15","v":{"v":-4.80045919098299,"d":"-4.8"}}]
["5、主要港口货物吞吐量","万吨",{"$f":"'[10]9月'!$E16","v":{"v":10017.3967,"d":"10017.40"}},{"$f":"'[10]9月'!$M16","v":{"v":12.9843354556035,"d":"13.0"}}]
["  主要港口集装箱(TEU)","箱",{"$f":"'[10]9月'!$E17","v":{"v":689000,"d":"689000.00"}},{"$f":"'[10]9月'!$M17","v":{"v":48.575673590674,"d":"48.6"}}]
["二、邮政快递业务情况"]
["1、邮政业务总量","亿元",{"$f":"'[11]表1-邮政行业发展情况表-2022'!$D$8","v":{"v":132234.903729,"d":"132234.90"}},{"$f":"'[11]表1-邮政行业发展情况表-2022'!$F$8","v":{"v":10.0254192397459,"d":"10.0"}}]
["2、快递业务总量","万件",{"$f":"'[11]表1-邮政行业发展情况表-2022'!$D$16","v":{"v":7672.054,"d":"7672.05"}},{"$f":"'[11]表1-邮政行业发展情况表-2022'!$F$16","v":{"v":14.403156061433,"d":"14.4"}}]
["注：以上交通运输数据由市交通运输局提供，邮政业务情况由市邮政管理局提供。"]

{"sheet":"财政金融","index":16,"n_rows":25,"n_cols":4,"rows_kept":25,"merged":[[0,0,0,3]]}
["财政金融"]
[]
[{"$nulls":3},"单位：亿元；%"]
[" 指    标","本月","1-本月","增幅"]
["一般公共预算收入",{"$f":"[1]Sheet2!B6/10000","v":{"v":30.8024,"d":"30.80"}},{"$f":"[1]Sheet2!C6/10000","v":{"v":245.5226,"d":"245.52"}},{"$f":"ROUND([1]Sheet2!$E6,1)","v":-8.6}]
["    其中：税收收入",{"$f":"[1]Sheet2!B7/10000","v":{"v":24.5093,"d":"24.51"}},{"$f":"[1]Sheet2!C7/10000","v":{"v":193.9595,"d":"193.96"}},{"$f":"ROUND([1]Sheet2!$E7,1)","v":-11.7}]
["          非税收入",{"$f":"[1]Sheet2!B8/10000","v":{"v":6.2931,"d":"6.29"}},{"$f":"[1]Sheet2!C8/10000","v":{"v":51.5631,"d":"51.56"}},{"$f":"ROUND([1]Sheet2!$E8,1)","v":5.3}]
["   一般公共预算地方收入",{"$f":"[1]Sheet2!B9/10000","v":{"v":18.9459,"d":"18.95"}},{"$f":"[1]Sheet2!C9/10000","v":{"v":139.982,"d":"139.98"}},{"$f":"ROUND([1]Sheet2!$E9,1)","v":12.3}]
["    其中：税收收入",{"$f":"[1]Sheet2!B10/10000","v":{"v":12.7922,"d":"12.79"}},{"$f":"[1]Sheet2!C10/10000","v":{"v":89.7064,"d":"89.71"}},{"$f":"ROUND([1]Sheet2!$E10,1)","v":16.8}]
["           #增值税",{"$f":"[1]Sheet2!$B$11/10000","v":{"v":3.8114,"d":"3.81"}},{"$f":"[1]Sheet2!$C$11/10000","v":{"v":30.9262,"d":"30.93"}},{"$f":"[1]Sheet2!$E$11","v":{"v":9.67787695985077,"d":"9.7"}}]
["            企业所得税",{"$f":"[1]Sheet2!$B$12/10000","v":{"v":0.0447,"d":"0.04"}},{"$f":"[1]Sheet2!$C$12/10000","v":{"v":5.9477,"d":"5.95"}},{"$f":"[1]Sheet2!$E$12","v":{"v":-15.9727618213413,"d":"-16.0"}}]
["            个人所得税",{"$f":"[1]Sheet2!$B$13/10000","v":{"v":0.4944,"d":"0.49"}},{"$f":"[1]Sheet2!$C$13/10000","v":{"v":3.0898,"d":"3.09"}},{"$f":"[1]Sheet2!$E$13","v":{"v":73.5842696629214,"d":"73.6"}}]
["        “上划中央”收入",{"$f":"[1]Sheet2!$B$14/10000","v":{"v":12.4631,"d":"12.46"}},{"$f":"[1]Sheet2!$C$14/10000","v":{"v":115.694,"d":"115.69"}},{"$f":"[1]Sheet2!$E$14","v":{"v":-10.3360673080127,"d":"-10.3"}}]
["一般公共预算支出",{"$f":"[1]Sheet2!$B$15/10000","v":{"v":10.9053,"d":"10.91"}},{"$f":"[1]Sheet2!$C$15/10000","v":{"v":401.9874,"d":"401.99"}},{"$f":"[1]Sheet2!$E$15","v":{"v":2.78849377151243,"d":"2.8"}}]
["指标","本月余额","年初余额","同比增幅"]
["金融机构本外币各项存款余额",{"$f":"[2]Sheet1!$C6/10000","v":{"v":3722.839472652,"d":"3722.84"}},{"$f":"[2]Sheet1!D6/10000","v":{"v":3318.1499863266,"d":"3318.15"}},{"$f":"[2]Sheet1!$F$6","v":{"v":14.647559865152,"d":"14.6"}}]
["    住户存款",{"$f":"[2]Sheet1!$C7/10000","v":{"v":2501.7822582798,"d":"2501.78"}},{"$f":"[2]Sheet1!D7/10000","v":{"v":2186.1401279734,"d":"2186.14"}},{"$f":"ROUND([2]Sheet1!F7,1)","v":16.3}]
["    非金融企业存款",{"$f":"[2]Sheet1!$C8/10000","v":{"v":653.0479751841,"d":"653.05"}},{"$f":"[2]Sheet1!D8/10000","v":{"v":556.8966135209,"d":"556.90"}},{"$f":"ROUND([2]Sheet1!F8,1)","v":15.9}]
["    财政性存款",{"$f":"[2]Sheet1!$C9/10000","v":{"v":59.103372435,"d":"59.10"}},{"$f":"[2]Sheet1!D9/10000","v":{"v":77.7421411724,"d":"77.74"}},{"$f":"ROUND([2]Sheet1!F9,1)","v":-1.9}]
["    机关团体存款",{"$f":"[2]Sheet1!$C10/10000","v":{"v":474.8279541866,"d":"474.83"}},{"$f":"[2]Sheet1!D10/10000","v":{"v":472.9072523974,"d":"472.91"}},{"$f":"ROUND([2]Sheet1!F10,1)","v":5.6}]
["    非银行业金融机构存款",{"$f":"[2]Sheet1!$C11/10000","v":{"v":32.561398138,"d":"32.56"}},{"$f":"[2]Sheet1!D11/10000","v":{"v":23.5077105751,"d":"23.51"}},{"$f":"ROUND([2]Sheet1!F11,1)","v":46.3}]
["金融机构本外币各项贷款余额",{"$f":"[2]Sheet1!$C12/10000","v":{"v":3223.6014255829,"d":"3223.60"}},{"$f":"[2]Sheet1!D12/10000","v":{"v":2841.6539420402,"d":"2841.65"}},{"$f":"ROUND([2]Sheet1!F12,1)","v":15.5}]
["其中：短期贷款",{"$f":"[2]Sheet1!$C13/10000","v":{"v":873.2457033605,"d":"873.25"}},{"$f":"[2]Sheet1!D13/10000","v":{"v":683.572351212,"d":"683.57"}},{"$f":"ROUND([2]Sheet1!F13,1)","v":30.7}]
["其中：中长期贷款",{"$f":"[2]Sheet1!$C14/10000","v":{"v":2251.9224445527,"d":"2251.92"}},{"$f":"[2]Sheet1!D14/10000","v":{"v":2086.1857843176,"d":"2086.19"}},{"$f":"ROUND([2]Sheet1!F14,1)","v":8.9}]
["注：财政数据由市财政局提供，金融信贷数据由市人民银行提供。"]

{"sheet":"人民生活和物价1","index":17,"n_rows":15,"n_cols":4,"rows_kept":15,"merged":[[0,0,0,3],[2,1,2,3]]}
["人民生活和物价"]
[]
[null,"单位：%"]
["指       标","上月=100","上年同月=100","上年同期=100"]
["1、居民消费价格指数（%）",{"v":100.32390115,"d":"100.3"},{"v":102.16643951,"d":"102.2"},{"v":101.38484509,"d":"101.4"}]
["    食品烟酒类",{"v":101.31438554,"d":"101.3"},{"v":106.33604173,"d":"106.3"},{"v":99.80537826,"d":"99.8"}]
["    衣着类   ",{"v":100.18639673,"d":"100.2"},{"v":100.10910635,"d":"100.1"},{"v":100.52726537,"d":"100.5"}]
["    居住",{"v":100.01788512,"d":"100.0"},{"v":97.50001059,"d":"97.5"},{"v":100.39277222,"d":"100.4"}]
["    生活用品及服务",{"v":100.07803033,"d":"100.1"},{"v":101.79793119,"d":"101.8"},{"v":100.96373786,"d":"101.0"}]
["    交通和通信",{"v":99.52501924,"d":"99.5"},{"v":106.41346808,"d":"106.4"},{"v":107.6835753,"d":"107.7"}]
["    教育文化和娱乐",{"v":100.00892574,"d":"100.0"},{"v":100.24909357,"d":"100.2"},{"v":101.79156013,"d":"101.8"}]
["    医疗保健",{"v":100.02006204,"d":"100.0"},{"v":100.33450677,"d":"100.3"},{"v":100.37006961,"d":"100.4"}]
["    其他用品和服务",{"v":99.67119553,"d":"99.7"},{"v":101.14651318,"d":"101.1"},{"v":101.04271714,"d":"101.0"}]
["2、商品零售价格总指数（%）",{"v":100.26067616,"d":"100.3"},{"v":104.21795599,"d":"104.2"},{"v":102.83708465,"d":"102.8"}]
["注：以上数据由国家统计局岳阳调查队提供。"]

{"sheet":"调查单位","index":18,"n_rows":22,"n_cols":4,"rows_kept":22,"merged":[[1,0,1,3],[3,0,4,0],[3,1,4,1],[3,2,3,3]]}
[]
["调查单位"]
[]
["指标","单位","1-9月"]
[null,null,"总量","增幅（%）"]
["一、新登记市场主体","家",{"$f":"[13]Sheet1!$E3","v":100832},{"$f":"[13]Sheet1!$G3*100","v":{"v":41.5404483499207,"d":"41.5"}}]
[" #企业","家",{"$f":"[13]Sheet1!$E4","v":19169},{"$f":"[13]Sheet1!$G4*100","v":{"v":80.5160561258122,"d":"80.5"}}]
["  个体户","家",{"$f":"[13]Sheet1!$E5","v":81067},{"$f":"[13]Sheet1!$G5*100","v":{"v":35.2649669625576,"d":"35.3"}}]
["  农村合作社","家",{"$f":"[13]Sheet1!$E6","v":596},{"$f":"[13]Sheet1!$G6*100","v":{"v":-13.3720930232558,"d":"-13.4"}}]
["二、全市在库“四上”单位","家",4901,{"v":8.42920353982302,"d":"8.4"}]
["  #规模以上工业","家",1865,{"v":6.93807339449541,"d":"6.9"}]
["   限额以上批零住餐业","家",1147,{"v":13.0049261083744,"d":"13.0"}]
["   规模以上服务业","家",1130,{"v":14.2568250758342,"d":"14.3"}]
["   资质建筑业","家",355,{"v":1.71919770773639,"d":"1.7"}]
["   房地产开发经营业","家",404,{"v":-4.49172576832151,"d":"-4.5"}]
["三、本年新增“四上”单位","家",207,{"v":14.3646408839779,"d":"14.4"}]
["  #规模以上工业","家",43,{"v":-24.5614035087719,"d":"-24.6"}]
["   限额以上批零住餐业","家",67,{"v":76.3157894736842,"d":"76.3"}]
["   规模以上服务业","家",53,{"v":35.8974358974359,"d":"35.9"}]
["   资质建筑业","家",19,{"v":-17.3913043478261,"d":"-17.4"}]
["   房地产开发经营业","家",13,{"v":-45.8333333333333,"d":"-45.8"}]
["注：新登记市场主体数据由市市场监督管理局提供。"]

{"sheet":"县市1","index":19,"n_rows":18,"n_cols":17,"rows_kept":18,"merged":[[0,0,0,15],[1,13,1,15],[2,0,3,0],[2,1,2,4],[2,5,2,8],[2,9,2,12],[2,13,2,16],[19,0,19,15]]}
["2022年1—9月岳阳市各县（市）区主要经济指标（一）"]
[]
["县（市）区","GDP",{"$nulls":3},"第一产业",{"$nulls":3},"第二产业",{"$nulls":3},"第三产业"]
[null,"绝对额   （亿元）","排位","增速        （%）","排位","绝对额   （亿元）","排位","增速        （%）","排位","绝对额   （亿元）","排位","增速        （%）","排位","绝对额   （亿元）","排位","增速        （%）","排位"]
["岳阳市",3297.59,"——",5.4,"——",{"v":287.71585313436,"d":"287.72"},"——",4.6,"——",{"v":1376.06056442015,"d":"1376.06"},"——",6.6,"——",{"v":1633.81768244549,"d":"1633.82"},"——",4.5,"——"]
["岳阳楼区",588.97,{"$f":"RANK(B6,$B$6:$B$18)","v":1},5.8,{"$f":"RANK(D6,$D$6:$D$18)","v":4},{"v":3.93652954300942,"d":"3.94"},{"$f":"RANK(F6,$F$6:$F$17)","v":11},{"v":3,"d":"3.0"},{"$f":"RANK(H6,$H$6:$H$17)","v":11},{"v":127.408246363777,"d":"127.41"},{"$f":"RANK(J6,$J$6:$J$18)","v":5},6.4,{"$f":"RANK(L6,$L$6:$L$18)","v":6},{"v":457.624799712209,"d":"457.62"},{"$f":"RANK(N6,$N$6:$N$18)","v":1},5.9,{"$f":"RANK(P6,$P$6:$P$18)","v":7}]
["云溪区",221.33,{"$f":"RANK(B7,$B$6:$B$18)","v":10},{"v":5,"d":"5.0"},{"$f":"RANK(D7,$D$6:$D$18)","v":10},{"v":7.14288538487584,"d":"7.14"},{"$f":"RANK(F7,$F$6:$F$17)","v":9},3.1,{"$f":"RANK(H7,$H$6:$H$17)","v":10},{"v":138.145056245723,"d":"138.15"},{"$f":"RANK(J7,$J$6:$J$18)","v":4},7.4,{"$f":"RANK(L7,$L$6:$L$18)","v":3},{"v":76.0384058196804,"d":"76.04"},{"$f":"RANK(N7,$N$6:$N$18)","v":10},0.9,{"$f":"RANK(P7,$P$6:$P$18)","v":13}]
["君山区",129.92,11,5.1,9,{"v":22.2657450641202,"d":"22.27"},7,4.3,3,{"v":40.377907843323,"d":"40.38"},11,{"v":4,"d":"4.0"},10,{"v":67.2805926755469,"d":"67.28"},11,5.9,7]
["岳阳县",285.41,4,5.5,7,{"v":42.881816879187,"d":"42.88"},3,3.5,8,{"v":116.812069178121,"d":"116.81"},6,5.3,9,{"v":125.719597939014,"d":"125.72"},5,6.9,3]
["华容县",{"v":275.5,"d":"275.50"},5,4.9,11,{"v":57.4911398379249,"d":"57.49"},1,4.7,1,{"v":93.1324596048575,"d":"93.13"},10,1.5,13,{"v":124.87286048982,"d":"124.87"},7,7.1,2]
["湘阴县",272.81,6,6.5,3,{"v":44.631021872126,"d":"44.63"},2,4.2,6,{"v":103.131903154516,"d":"103.13"},8,7.4,3,{"v":125.050660870358,"d":"125.05"},6,6.8,4]
["平江县",260.43,7,5.6,5,{"v":37.6635294466829,"d":"37.66"},4,4.2,6,{"v":96.4181264458256,"d":"96.42"},9,5.4,8,{"v":126.34665063428,"d":"126.35"},4,6.7,5]
["汨罗市",316.73,2,5.6,5,{"v":30.6458221143463,"d":"30.65"},5,4.3,3,{"v":152.021472331548,"d":"152.02"},2,5.9,7,{"v":134.060187962693,"d":"134.06"},3,{"v":6,"d":"6.0"},6]
["临湘市",228.92,9,5.5,7,{"v":26.6685689211162,"d":"26.67"},6,4.5,2,{"v":108.833250868824,"d":"108.83"},7,6.8,5,{"v":93.4134426731243,"d":"93.41"},9,5.2,10]
["经济开发区",290.07,3,8.2,2,{"v":4.02964850337182,"d":"4.03"},10,3.2,9,{"v":147.475224968885,"d":"147.48"},3,11.1,2,{"v":138.561453547351,"d":"138.56"},2,3.8,12]
["南湖新区",{"v":106,"d":"106.00"},12,4.6,13,{"v":0.401979842816782,"d":"0.40"},12,2.7,12,{"v":6.45547804773123,"d":"6.46"},13,3.8,12,{"v":99.1406855643442,"d":"99.14"},8,4.7,11]
["屈原管理区",71.69,13,4.8,12,{"v":9.95716572478248,"d":"9.96"},8,4.3,3,{"v":35.1233002389928,"d":"35.12"},12,{"v":4,"d":"4.0"},10,{"v":26.6074858677101,"d":"26.61"},13,5.8,9]
["城陵矶新港区",249.83,8,16.3,1,"-","-","-","-",{"v":210.726069128027,"d":"210.73"},1,17.8,1,{"v":39.1009060069841,"d":"39.10"},12,8.2,1]

{"sheet":"县市2","index":20,"n_rows":20,"n_cols":45,"rows_kept":20,"merged":[[1,0,1,44],[2,0,3,0],[2,1,3,4],[2,5,3,8],[2,9,3,10],[2,11,3,12],[2,13,2,14],[2,15,3,18],[2,19,3,22],[2,23,3,26],[2,27,3,30],[2,31,3,34],[2,35,3,38],[2,39,3,42],[2,43,3,44],[3,13,3,14],[19,0,19,26]]}
[]
["2022年1—9月岳阳市各县（市）区主要经济指标（二）"]
[null,"农林牧渔业总产值",{"$nulls":3},"规模以上服务业营业收入（1-8月）",{"$nulls":3},"规模工业增加值",null,"固定资产投资",{"$nulls":3},"社会消费品零售总额",{"$nulls":3},"一般公共预算地方收入     ",{"$nulls":3},"一般公共预算地方税收收入",{"$nulls":3},"商品房销售面积",{"$nulls":3},"建筑业总产值",{"$nulls":3},"城镇居民人均可支配收入",{"$nulls":3},"农村居民人均可支配收入",{"$nulls":3},"新增“四上”单位"]
[{"$nulls":13},"产业投资"]
[null,"绝对额（亿元）","排位","增幅（%）","排位","绝对额（亿元）","排位","增幅（%）","排位","增幅\n（%）","排位","增幅（%）","排位","增幅","排位","绝对额（亿元）","排位","增幅（%）","排位","绝对额（亿元）","排位","增幅（%）","排位","绝对额（亿元）","排位","增幅（%）","排位","绝对额\n（万平方米）","排位","增幅（%）","排位","绝对额（亿元）","排位","增幅（%）","排位","绝对额\n（元）","排名","增速    \n(%)","排名","绝对额\n（元）","排名","增速    \n(%)","排名","申报数（家）","其中：工业（家）"]
["岳阳市",{"v":494.4084,"d":"494.41"},"-",4.6,"-",268.56,"—",32.4,"—",8.2,"—",{"v":11,"d":"11.0"},"—",{"$f":"[6]T100029_1!$E6","v":17.6},"—",{"$f":"[4]Sheet1!$B5/10000","v":{"v":1341.80333234681,"d":"1341.80"}},"—",{"$f":"[4]Sheet1!$C5","v":3.3},"—",{"$f":"[1]Sheet1!$B3/10000","v":{"v":139.982,"d":"139.98"}},"—",{"$f":"[1]Sheet1!$C3","v":{"v":12.3159887123964,"d":"12.3"}},"—",{"$f":"[1]Sheet1!$D3/10000","v":{"v":89.7064,"d":"89.71"}},"—",{"$f":"[1]Sheet1!$E3","v":{"v":16.8143344532125,"d":"16.8"}},"—",256.14,"—",-37.7,"—",{"$f":"'[12]1-9月'!$C4","v":466.02},"—",{"$f":"'[12]1-9月'!$D4","v":9.5},"—",{"$f":"[9]Sheet1!$E6","v":{"v":30760.7633259032,"d":"30761"}},"—",{"$f":"[9]Sheet1!$G6","v":5.9},"—",{"$f":"[9]Sheet1!$H$6","v":{"v":16752.7567265255,"d":"16753"}},"—",{"$f":"[9]Sheet1!$J$6","v":7.3},"—",207,42]
["岳阳楼区",{"v":7.7555,"d":"7.76"},10,3.3,11,34.48,{"$f":"RANK(F7,$F$7:$F$19,0)","v":3},17.1,{"$f":"RANK(H7,$H$7:$H$19,0)","v":13},2.5,{"$f":"RANK(J7,$J$7:$J$19,0)","v":12},13.5,{"$f":"RANK(L7,$L$7:$L$19,0)","v":3},{"$f":"[6]T100029_1!$E7","v":12.5},{"$f":"RANK(N7,$N$7:$N$19)","v":8},{"$f":"[4]Sheet1!$B6/10000","v":{"v":393.505161490935,"d":"393.51"}},{"$f":"RANK(P7,$P$7:$P$19,0)","v":1},{"$f":"[4]Sheet1!$C6","v":3.5},{"$f":"RANK(R7,$R$7:$R$19,0)","v":3},{"$f":"[1]Sheet1!$B11/10000","v":{"v":8.8888,"d":"8.89"}},{"$f":"RANK(T7,$T$7:$T$19,0)","v":4},{"$f":"[1]Sheet1!$C11","v":{"v":19.8258314123563,"d":"19.8"}},{"$f":"RANK(V7,$V$7:$V$19,0)","v":8},{"$f":"[1]Sheet1!$D11/10000","v":{"v":6.7149,"d":"6.71"}},{"$f":"RANK(X7,$X$7:$X$19,0)","v":5},{"$f":"[1]Sheet1!$E11","v":{"v":20.6890973794888,"d":"20.7"}},{"$f":"RANK(Z7,$Z$7:$Z$19,0)","v":8},37.03,{"$f":"RANK(AB7,$AB$7:$AB$19)","v":2},-55.6,{"$f":"RANK(AD7,$AD$7:$AD$19)","v":9},{"$f":"'[12]1-9月'!$C5","v":{"v":66.4,"d":"66.40"}},{"$f":"RANK(AF7,$AF$7:$AF$19,0)","v":3},{"$f":"'[12]1-9月'!$D5","v":{"v":11.9919041996964,"d":"12.0"}},{"$f":"RANK(AH7,$AH$7:$AH$19,0)","v":9},{"$f":"[9]Sheet1!$E7","v":{"v":36245.052428977,"d":"36245"}},{"$f":"RANK(AJ7,$AJ$7:$AJ$18,0)","v":2},{"$f":"[9]Sheet1!$G7","v":{"v":5.97966900055168,"d":"6.0"}},{"$f":"RANK(AL7,$AL$7:$AL$18,0)","v":4},"—","—","—","—",10,0]
["云溪区",{"v":12.3226,"d":"12.32"},9,3.4,10,8.84,{"$f":"RANK(F8,$F$7:$F$19,0)","v":11},17.3,{"$f":"RANK(H8,$H$7:$H$19,0)","v":12},7.4,{"$f":"RANK(J8,$J$7:$J$19,0)","v":4},50.1,{"$f":"RANK(L8,$L$7:$L$19,0)","v":1},{"$f":"[6]T100029_1!$E8","v":36.9},{"$f":"RANK(N8,$N$7:$N$19)","v":2},{"$f":"[4]Sheet1!$B7/10000","v":{"v":33.5762134420001,"d":"33.58"}},{"$f":"RANK(P8,$P$7:$P$19,0)","v":11},{"$f":"[4]Sheet1!$C7","v":2.7},13,{"$f":"[1]Sheet1!$B12/10000","v":{"v":3.8134,"d":"3.81"}},{"$f":"RANK(T8,$T$7:$T$19,0)","v":10},{"$f":"[1]Sheet1!$C12","v":{"v":9.48293187103442,"d":"9.5"}},{"$f":"RANK(V8,$V$7:$V$19,0)","v":12},{"$f":"[1]Sheet1!$D12/10000","v":{"v":3.122,"d":"3.12"}},{"$f":"RANK(X8,$X$7:$X$19,0)","v":10},{"$f":"[1]Sheet1!$E12","v":{"v":10.2673683466959,"d":"10.3"}},{"$f":"RANK(Z8,$Z$7:$Z$19,0)","v":12},"0 ",13,{"v":-100,"d":"-100.0"},{"$f":"RANK(AD8,$AD$7:$AD$19)","v":13},{"$f":"'[12]1-9月'!$C6","v":19.84},{"$f":"RANK(AF8,$AF$7:$AF$19,0)","v":8},{"$f":"'[12]1-9月'!$D6","v":{"v":17.8847296494355,"d":"17.9"}},{"$f":"RANK(AH8,$AH$7:$AH$19,0)","v":2},{"$f":"[9]Sheet1!$E8","v":{"v":36758.9519968424,"d":"36759"}},{"$f":"RANK(AJ8,$AJ$7:$AJ$18,0)","v":1},{"$f":"[9]Sheet1!$G8","v":{"v":5.71950601491343,"d":"5.7"}},8,"—","—","—","—",7,1]
["君山区",{"v":38.5476,"d":"38.55"},7,4.7,3,14.56,8,36.7,3,3.3,11,0.7,{"$f":"RANK(L9,$L$7:$L$19,0)","v":13},{"$f":"[6]T100029_1!$E9","v":5.4},{"$f":"RANK(N9,$N$7:$N$19)","v":11},{"$f":"[4]Sheet1!$B8/10000","v":{"v":47.8297445650788,"d":"47.83"}},9,{"$f":"[4]Sheet1!$C8","v":3.7},1,{"$f":"[1]Sheet1!$B13/10000","v":{"v":3.2552,"d":"3.26"}},11,{"$f":"[1]Sheet1!$C13","v":{"v":38.7198499957385,"d":"38.7"}},2,{"$f":"[1]Sheet1!$D13/10000","v":{"v":2.3502,"d":"2.35"}},11,{"$f":"[1]Sheet1!$E13","v":{"v":46.4572817349037,"d":"46.5"}},2,3.26,{"$f":"RANK(AB9,$AB$7:$AB$19)","v":11},-58.3,10,{"$f":"'[12]1-9月'!$C7","v":12.66},10,{"$f":"'[12]1-9月'!$D7","v":{"v":14.0540540540541,"d":"14.1"}},5,{"$f":"[9]Sheet1!$E9","v":{"v":35304.4993662071,"d":"35304"}},3,{"$f":"[9]Sheet1!$G9","v":{"v":6.08650473066558,"d":"6.1"}},3,{"$f":"[9]Sheet1!$H9","v":{"v":20859.7956819362,"d":"20860"}},{"$f":"RANK(AN9,$AN$7:$AN$18,0)","v":2},{"$f":"[9]Sheet1!J9","v":{"v":7.07240350783814,"d":"7.1"}},{"$f":"RANK(AP9,$AP$9:$AP$18,0)","v":7},4,1]
["岳阳县",{"v":73.1111,"d":"73.11"},3,{"v":4,"d":"4.0"},8,19.23,5,28.8,6,6.2,7,2.9,12,{"$f":"[6]T100029_1!$E10","v":1.3},13,{"$f":"[4]Sheet1!$B9/10000","v":{"v":114.994420283497,"d":"114.99"}},4,{"$f":"[4]Sheet1!$C9","v":3.1},8,{"$f":"[1]Sheet1!$B20/10000","v":{"v":6.7855,"d":"6.79"}},8,{"$f":"[1]Sheet1!$C20","v":{"v":15.8825036290667,"d":"15.9"}},9,{"$f":"[1]Sheet1!$D20/10000","v":{"v":5.123,"d":"5.12"}},8,{"$f":"[1]Sheet1!$E20","v":{"v":21.4355133097874,"d":"21.4"}},7,18.97,8,-14.3,5,{"$f":"'[12]1-9月'!$C11","v":15.67},9,{"$f":"'[12]1-9月'!$D11","v":{"v":6.96245733788396,"d":"7.0"}},12,{"$f":"[9]Sheet1!$E10","v":{"v":29930.3561447863,"d":"29930"}},6,{"$f":"[9]Sheet1!$G10","v":{"v":6.12865284791588,"d":"6.1"}},2,{"$f":"[9]Sheet1!$H10","v":{"v":18722.5493039704,"d":"18723"}},{"$f":"RANK(AN10,$AN$7:$AN$18,0)","v":4},{"$f":"[9]Sheet1!J10","v":{"v":7.48354358216727,"d":"7.5"}},1,19,6]
["华容县",{"v":97.9044,"d":"97.90"},1,5.2,1,17.18,7,{"v":30,"d":"30.0"},5,4.4,9,3.1,11,{"$f":"[6]T100029_1!$E11","v":24.7},4,{"$f":"[4]Sheet1!$B10/10000","v":{"v":107.610160519081,"d":"107.61"}},5,{"$f":"[4]Sheet1!$C10","v":2.8},12,{"$f":"[1]Sheet1!$B19/10000","v":{"v":5.8086,"d":"5.81"}},9,{"$f":"[1]Sheet1!$C19","v":{"v":21.6460732984293,"d":"21.6"}},6,{"$f":"[1]Sheet1!$D19/10000","v":{"v":4.2884,"d":"4.29"}},9,{"$f":"[1]Sheet1!$E19","v":{"v":27.4867709138474,"d":"27.5"}},5,29.73,4,6.2,1,{"$f":"'[12]1-9月'!$C12","v":10.69},11,{"$f":"'[12]1-9月'!$D12","v":{"v":16.8306010928962,"d":"16.8"}},3,{"$f":"[9]Sheet1!$E11","v":{"v":28987.2939451749,"d":"28987"}},8,{"$f":"[9]Sheet1!$G11","v":{"v":5.86663224705454,"d":"5.9"}},5,{"$f":"[9]Sheet1!$H11","v":{"v":18294.8523959558,"d":"18295"}},5,{"$f":"[9]Sheet1!J11","v":{"v":7.44632182649026,"d":"7.4"}},2,25,4]
["湘阴县",{"v":76.1712,"d":"76.17"},2,4.6,6,11.38,9,{"v":39,"d":"39.0"},2,8.9,3,12.4,6,{"$f":"[6]T100029_1!$E12","v":32.2},3,{"$f":"[4]Sheet1!$B11/10000","v":{"v":104.304634731203,"d":"104.30"}},6,{"$f":"[4]Sheet1!$C11","v":3.6},2,{"$f":"[1]Sheet1!$B17/10000","v":{"v":19.3792,"d":"19.38"}},1,{"$f":"[1]Sheet1!$C17","v":{"v":-13.1802949662205,"d":"-13.2"}},13,{"$f":"[1]Sheet1!$D17/10000","v":{"v":8.0132,"d":"8.01"}},3,{"$f":"[1]Sheet1!$E17","v":{"v":20.2064144490114,"d":"20.2"}},10,40.25,1,-9.4,3,{"$f":"'[12]1-9月'!$C13","v":42.71},4,{"$f":"'[12]1-9月'!$D13","v":{"v":19.1020635805912,"d":"19.1"}},1,{"$f":"[9]Sheet1!$E12","v":{"v":29970.1119882425,"d":"29970"}},5,{"$f":"[9]Sheet1!$G12","v":{"v":5.86663222170243,"d":"5.9"}},6,{"$f":"[9]Sheet1!$H12","v":{"v":19113.8090913791,"d":"19114"}},3,{"$f":"[9]Sheet1!J12","v":{"v":7.1680849678211,"d":"7.2"}},6,39,5]
["平江县",{"v":64.3476,"d":"64.35"},4,4.6,6,18.79,6,35.6,4,6.7,5,11.6,8,{"$f":"[6]T100029_1!$E13","v":24.1},5,{"$f":"[4]Sheet1!$B12/10000","v":{"v":123.937430938633,"d":"123.94"}},3,{"$f":"[4]Sheet1!$C12","v":3.1},8,{"$f":"[1]Sheet1!$B16/10000","v":{"v":11.9816,"d":"11.98"}},2,{"$f":"[1]Sheet1!$C16","v":{"v":10.1766453024855,"d":"10.2"}},11,{"$f":"[1]Sheet1!$D16/10000","v":{"v":8.3195,"d":"8.32"}},1,{"$f":"[1]Sheet1!$E16","v":{"v":12.18916877933,"d":"12.2"}},11,{"v":30.1,"d":"30.10"},3,-9.5,4,{"$f":"'[12]1-9月'!$C14","v":42.24},5,{"$f":"'[12]1-9月'!$D14","v":{"v":11.6869381279746,"d":"11.7"}},10,{"$f":"[9]Sheet1!$E13","v":{"v":21447.1908591776,"d":"21447"}},10,{"$f":"[9]Sheet1!$G13","v":{"v":5.58830472660415,"d":"5.6"}},9,{"$f":"[9]Sheet1!$H13","v":{"v":11598.170951967,"d":"11598"}},8,{"$f":"[9]Sheet1!J13","v":{"v":7.29085110938527,"d":"7.3"}},4,31,7]
["汨罗市",{"v":57.1686,"d":"57.17"},5,4.7,3,7.35,12,25.6,9,6.4,6,13.4,4,{"$f":"[6]T100029_1!$E14","v":20.5},7,{"$f":"[4]Sheet1!$B13/10000","v":{"v":93.3635003945225,"d":"93.36"}},7,{"$f":"[4]Sheet1!$C13","v":2.9},11,{"$f":"[1]Sheet1!$B15/10000","v":{"v":11.8459,"d":"11.85"}},3,{"$f":"[1]Sheet1!$C15","v":{"v":14.1795504491653,"d":"14.2"}},10,{"$f":"[1]Sheet1!$D15/10000","v":{"v":8.2366,"d":"8.24"}},2,{"$f":"[1]Sheet1!$E15","v":{"v":5.09218500797448,"d":"5.1"}},13,28.34,5,-9.1,2,{"$f":"'[12]1-9月'!$C15","v":28.06},7,{"$f":"'[12]1-9月'!$D15","v":{"v":12.1502797761791,"d":"12.2"}},7,{"$f":"[9]Sheet1!$E$15","v":{"v":29366.2052288325,"d":"29366"}},7,{"$f":"[9]Sheet1!$G15","v":{"v":5.77071664278044,"d":"5.8"}},7,{"$f":"[9]Sheet1!$H$15","v":{"v":18076.5201763302,"d":"18077"}},6,{"$f":"[9]Sheet1!J15","v":{"v":7.03158513681658,"d":"7.0"}},8,33,8]
["临湘市",{"v":44.3192,"d":"44.32"},6,4.9,2,10.35,10,21.5,10,6.2,7,12.4,6,{"$f":"[6]T100029_1!$E15","v":21.9},6,{"$f":"[4]Sheet1!$B14/10000","v":{"v":77.7949706615142,"d":"77.79"}},8,{"$f":"[4]Sheet1!$C14","v":3.2},7,{"$f":"[1]Sheet1!$B18/10000","v":{"v":7.6611,"d":"7.66"}},5,{"$f":"[1]Sheet1!$C18","v":{"v":26.2707674050633,"d":"26.3"}},5,{"$f":"[1]Sheet1!$D18/10000","v":{"v":5.1531,"d":"5.15"}},7,{"$f":"[1]Sheet1!$E18","v":{"v":26.8174435202048,"d":"26.8"}},6,27.02,6,-27.6,6,{"$f":"'[12]1-9月'!$C16","v":10.69},11,{"$f":"'[12]1-9月'!$D16","v":{"v":13.3616118769883,"d":"13.4"}},6,{"$f":"[9]Sheet1!$E$16","v":{"v":28445.227030756,"d":"28445"}},9,{"$f":"[9]Sheet1!$G16","v":{"v":6.21721147409771,"d":"6.2"}},1,{"$f":"[9]Sheet1!$H$16","v":{"v":16989.4470150425,"d":"16989"}},7,{"$f":"[9]Sheet1!J16","v":{"v":7.29042681934694,"d":"7.3"}},5,19,5]
["经济技术\n开发区",{"v":5.4769,"d":"5.48"},11,3.5,9,44.71,2,19.5,11,14.4,2,13.1,5,{"$f":"[6]T100029_1!$E16","v":9.4},10,{"$f":"[4]Sheet1!$B15/10000","v":{"v":166.437872145883,"d":"166.44"}},2,{"$f":"[4]Sheet1!$C15","v":3.3},5,{"$f":"[1]Sheet1!$B8/10000","v":{"v":7.1675,"d":"7.17"}},6,{"$f":"[1]Sheet1!$C8","v":{"v":19.8959535638413,"d":"19.9"}},7,{"$f":"[1]Sheet1!$D8/10000","v":{"v":6.8571,"d":"6.86"}},4,{"$f":"[1]Sheet1!$E8","v":{"v":20.4944823223448,"d":"20.5"}},9,21.64,7,-60.5,11,{"$f":"'[12]1-9月'!$C8","v":123.48},1,{"$f":"'[12]1-9月'!$D8","v":{"v":9.15841584158417,"d":"9.2"}},11,"—","—","—","—","—","—","—","—",3,1]
["南湖新区",{"v":0.7561,"d":"0.76"},12,3.1,12,24.89,4,27.1,7,2.3,13,10.7,9,{"$f":"[6]T100029_1!$E17","v":2.4},12,{"$f":"[4]Sheet1!$B16/10000","v":{"v":36.1141150237722,"d":"36.11"}},10,{"$f":"[4]Sheet1!$C16","v":3.3},5,{"$f":"[1]Sheet1!$B9/10000","v":{"v":2.0302,"d":"2.03"}},12,{"$f":"[1]Sheet1!$C9","v":{"v":32.6148017506042,"d":"32.6"}},3,{"$f":"[1]Sheet1!$D9/10000","v":{"v":1.6277,"d":"1.63"}},12,{"$f":"[1]Sheet1!$E9","v":{"v":30.7704667791436,"d":"30.8"}},4,13.34,9,-65.1,12,{"$f":"'[12]1-9月'!$C9","v":29.11},6,{"$f":"'[12]1-9月'!$D9","v":{"v":15.7455268389662,"d":"15.7"}},4,"—","—","—","—","—","—","—","—",5,0]
["屈原管理区",{"v":16.5274,"d":"16.53"},8,4.7,3,4.51,13,26.1,8,4.4,9,8.9,10,{"$f":"[6]T100029_1!$E20","v":10.2},9,{"$f":"[4]Sheet1!$B17/10000","v":{"v":15.8079023385177,"d":"15.81"}},13,{"$f":"[4]Sheet1!$C17","v":3.4},4,{"$f":"[1]Sheet1!$B7/10000","v":{"v":1.3505,"d":"1.35"}},13,{"$f":"[1]Sheet1!$C7","v":{"v":30.9639255236618,"d":"31.0"}},4,{"$f":"[1]Sheet1!$D7/10000","v":{"v":1.0546,"d":"1.05"}},13,{"$f":"[1]Sheet1!$E7","v":{"v":39.4789049067584,"d":"39.5"}},3,1.15,12,-51.1,8,{"$f":"'[12]1-9月'!$C10","v":4.71},13,{"$f":"'[12]1-9月'!$D10","v":{"v":12.1428571428571,"d":"12.1"}},8,{"$f":"[9]Sheet1!$E$14","v":{"v":31886.0573837122,"d":"31886"}},4,{"$f":"[9]Sheet1!$G14","v":{"v":5.53014590001027,"d":"5.5"}},{"$f":"RANK(AL18,$AL$7:$AL$18,0)","v":10},{"$f":"[9]Sheet1!$H$14","v":{"v":24085.9330990132,"d":"24086"}},1,{"$f":"[9]Sheet1!J14","v":{"v":7.38665035326689,"d":"7.4"}},{"$f":"RANK(AP18,$AP$9:$AP$18,0)","v":3},2,1]
["城陵矶新港区","—","—","—","—",52.28,1,74.3,1,22.2,1,28.7,2,{"$f":"[6]T100029_1!$E18","v":40.9},1,{"$f":"[4]Sheet1!$B18/10000","v":{"v":26.527205812171,"d":"26.53"}},12,{"$f":"[4]Sheet1!$C18","v":{"v":3,"d":"3.0"}},10,{"$f":"[1]Sheet1!$B10/10000","v":{"v":6.8413,"d":"6.84"}},7,{"$f":"[1]Sheet1!$C10","v":{"v":69.5111375405734,"d":"69.5"}},1,{"$f":"[1]Sheet1!$D10/10000","v":{"v":5.7855,"d":"5.79"}},6,{"$f":"[1]Sheet1!$E10","v":{"v":59.7542454783929,"d":"59.8"}},1,5.31,10,-40.3,7,{"$f":"'[12]1-9月'!$C$17","v":67.41},2,{"$f":"'[12]1-9月'!$D17","v":{"v":-0.295814228664398,"d":"-0.3"}},13,"—","—","—","—","—","—","—","—",10,3]
["注：新增“四上”单位数据截止到10月22日国家局名录终审通过。"]